BEGIN:VCALENDAR
VERSION:2.0
PRODID:icalendar-ruby
CALSCALE:GREGORIAN
METHOD:PUBLISH
BEGIN:VEVENT
DTSTAMP:20260421T190252Z
UID:9-701540@mthopebaptistal.com
DTSTART:20260902T233000Z
DTEND:20260903T003000Z
CLASS:PUBLIC
CREATED:20260421T122346
DESCRIPTION:
LAST-MODIFIED:20260421T122346
LOCATION:
SUMMARY:Adult Bible Study
URL;VALUE=URI:https://www.mthopebaptistal.com/events/adult-bible-study/2026
 -09-02
END:VEVENT
END:VCALENDAR
