BEGIN:VCALENDAR
VERSION:2.0
PRODID:icalendar-ruby
CALSCALE:GREGORIAN
METHOD:PUBLISH
BEGIN:VEVENT
DTSTAMP:20260421T203739Z
UID:9-702164@mthopebaptistal.com
DTSTART:20260909T233000Z
DTEND:20260910T003000Z
CLASS:PUBLIC
CREATED:20260421T145946
DESCRIPTION:
LAST-MODIFIED:20260421T145946
LOCATION:
SUMMARY:Adult Bible Study
URL;VALUE=URI:https://www.mthopebaptistal.com/events/adult-bible-study/2026
 -09-09
END:VEVENT
END:VCALENDAR
