BEGIN:VCALENDAR
VERSION:2.0
PRODID:icalendar-ruby
CALSCALE:GREGORIAN
METHOD:PUBLISH
BEGIN:VEVENT
DTSTAMP:20260422T023135Z
UID:9-703411@mthopebaptistal.com
DTSTART:20260916T233000Z
DTEND:20260917T003000Z
CLASS:PUBLIC
CREATED:20260421T201645
DESCRIPTION:
LAST-MODIFIED:20260421T201645
LOCATION:
SUMMARY:Adult Bible Study
URL;VALUE=URI:https://www.mthopebaptistal.com/events/adult-bible-study/2026
 -09-16
END:VEVENT
END:VCALENDAR
