BEGIN:VCALENDAR
VERSION:2.0
PRODID:icalendar-ruby
CALSCALE:GREGORIAN
METHOD:PUBLISH
BEGIN:VEVENT
DTSTAMP:20260422T113359Z
UID:9-703416@mthopebaptistal.com
DTSTART:20261021T233000Z
DTEND:20261022T003000Z
CLASS:PUBLIC
CREATED:20260421T201645
DESCRIPTION:
LAST-MODIFIED:20260421T201645
LOCATION:
SUMMARY:Adult Bible Study
URL;VALUE=URI:https://www.mthopebaptistal.com/events/adult-bible-study/2026
 -10-21
END:VEVENT
END:VCALENDAR
