BEGIN:VCALENDAR
VERSION:2.0
PRODID:icalendar-ruby
CALSCALE:GREGORIAN
METHOD:PUBLISH
BEGIN:VEVENT
DTSTAMP:20260422T130629Z
UID:9-704040@mthopebaptistal.com
DTSTART:20261028T233000Z
DTEND:20261029T003000Z
CLASS:PUBLIC
CREATED:20260422T072309
DESCRIPTION:
LAST-MODIFIED:20260422T072309
LOCATION:
SUMMARY:Adult Bible Study
URL;VALUE=URI:https://www.mthopebaptistal.com/events/adult-bible-study/2026
 -10-28
END:VEVENT
END:VCALENDAR
